BEGIN:VCALENDAR
VERSION:2.0
PRODID:-//wp-events-plugin.com//7.2.3.1//EN
TZID:Australia/Perth
X-WR-TIMEZONE:Australia/Perth
BEGIN:VEVENT
UID:18@shpsh.wa.edu.au
DTSTART;TZID=Australia/Perth:20250410T150000
DTEND;TZID=Australia/Perth:20250410T150000
DTSTAMP:20241210T132618Z
URL:https://shpsh.wa.edu.au/events/end-of-term-1/
SUMMARY:End of Term 1
DESCRIPTION:
CATEGORIES:Term Dates
END:VEVENT
BEGIN:VTIMEZONE
TZID:Australia/Perth
X-LIC-LOCATION:Australia/Perth
BEGIN:STANDARD
DTSTART:20240410T150000
TZOFFSETFROM:+0800
TZOFFSETTO:+0800
TZNAME:AWST
END:STANDARD
END:VTIMEZONE
END:VCALENDAR