BEGIN:VCALENDAR
VERSION:2.0
PRODID:-//wp-events-plugin.com//7.2.3.1//EN
TZID:Australia/Perth
X-WR-TIMEZONE:Australia/Perth
BEGIN:VEVENT
UID:4@shpsh.wa.edu.au
DTSTART;TZID=Australia/Perth:20240905T000000
DTEND;TZID=Australia/Perth:20240905T000000
DTSTAMP:20240821T054938Z
URL:https://shpsh.wa.edu.au/events/ipsha-speakers-challenge-years-5-6/
SUMMARY:IPSHA Speakers Challenge (Years 5 & 6)
DESCRIPTION:
END:VEVENT
BEGIN:VTIMEZONE
TZID:Australia/Perth
X-LIC-LOCATION:Australia/Perth
BEGIN:STANDARD
DTSTART:20230906T000000
TZOFFSETFROM:+0800
TZOFFSETTO:+0800
TZNAME:AWST
END:STANDARD
END:VTIMEZONE
END:VCALENDAR