BEGIN:VCALENDAR
VERSION:2.0
PRODID:-//wp-events-plugin.com//7.2.3.1//EN
TZID:Australia/Perth
X-WR-TIMEZONE:Australia/Perth
BEGIN:VEVENT
UID:1@shpsh.wa.edu.au
DTSTART;TZID=Australia/Perth:20240828T180000
DTEND;TZID=Australia/Perth:20240828T190000
DTSTAMP:20240820T023436Z
URL:https://shpsh.wa.edu.au/events/p-f-meeting/
SUMMARY:P & F Meeting
DESCRIPTION:
END:VEVENT
BEGIN:VTIMEZONE
TZID:Australia/Perth
X-LIC-LOCATION:Australia/Perth
BEGIN:STANDARD
DTSTART:20230829T180000
TZOFFSETFROM:+0800
TZOFFSETTO:+0800
TZNAME:AWST
END:STANDARD
END:VTIMEZONE
END:VCALENDAR