BEGIN:VCALENDAR
VERSION:2.0
PRODID:-//wp-events-plugin.com//7.2.3.1//EN
TZID:Australia/Perth
X-WR-TIMEZONE:Australia/Perth
BEGIN:VEVENT
UID:28@shpsh.wa.edu.au
DTSTART;TZID=Australia/Perth:20250530T080000
DTEND;TZID=Australia/Perth:20250530T150000
DTSTAMP:20241212T023322Z
URL:https://shpsh.wa.edu.au/events/pupil-free-day-no-school-4/
SUMMARY:Pupil Free Day - NO SCHOOL
DESCRIPTION:
END:VEVENT
BEGIN:VTIMEZONE
TZID:Australia/Perth
X-LIC-LOCATION:Australia/Perth
BEGIN:STANDARD
DTSTART:20240530T080000
TZOFFSETFROM:+0800
TZOFFSETTO:+0800
TZNAME:AWST
END:STANDARD
END:VTIMEZONE
END:VCALENDAR