BEGIN:VCALENDAR
VERSION:2.0
PRODID:-//wp-events-plugin.com//7.2.3.1//EN
TZID:Australia/Perth
X-WR-TIMEZONE:Australia/Perth
BEGIN:VEVENT
UID:14@shpsh.wa.edu.au
DTSTART;TZID=Australia/Perth:20250901T190000
DTEND;TZID=Australia/Perth:20250901T200000
DTSTAMP:20241210T131030Z
URL:https://shpsh.wa.edu.au/events/sacrament-of-confirmation-class-retreat
 /
SUMMARY:SACRAMENT OF CONFIRMATION - CLASS RETREAT
DESCRIPTION:CLASS RETREAT
LOCATION:Church\, 40 Mary Street \, Highgate\, WA\, 6003\, Australia
X-APPLE-STRUCTURED-LOCATION;VALUE=URI;X-ADDRESS=40 Mary Street \, Highgate\
 , WA\, 6003\, Australia;X-APPLE-RADIUS=100;X-TITLE=Church:geo:0,0
END:VEVENT
BEGIN:VTIMEZONE
TZID:Australia/Perth
X-LIC-LOCATION:Australia/Perth
BEGIN:STANDARD
DTSTART:20240901T190000
TZOFFSETFROM:+0800
TZOFFSETTO:+0800
TZNAME:AWST
END:STANDARD
END:VTIMEZONE
END:VCALENDAR