BEGIN:VCALENDAR
VERSION:2.0
PRODID:-//wp-events-plugin.com//7.2.3.1//EN
TZID:Australia/Perth
X-WR-TIMEZONE:Australia/Perth
BEGIN:VEVENT
UID:16@shpsh.wa.edu.au
DTSTART;TZID=Australia/Perth:20250913T180000
DTEND;TZID=Australia/Perth:20250913T190000
DTSTAMP:20241210T131126Z
URL:https://shpsh.wa.edu.au/events/sacrament-of-confirmation-sacrament/
SUMMARY:SACRAMENT OF CONFIRMATION - SACRAMENT
DESCRIPTION:SACRAMENT
LOCATION:Church\, 40 Mary Street \, Highgate\, WA\, 6003\, Australia
X-APPLE-STRUCTURED-LOCATION;VALUE=URI;X-ADDRESS=40 Mary Street \, Highgate\
 , WA\, 6003\, Australia;X-APPLE-RADIUS=100;X-TITLE=Church:geo:0,0
END:VEVENT
BEGIN:VTIMEZONE
TZID:Australia/Perth
X-LIC-LOCATION:Australia/Perth
BEGIN:STANDARD
DTSTART:20240913T180000
TZOFFSETFROM:+0800
TZOFFSETTO:+0800
TZNAME:AWST
END:STANDARD
END:VTIMEZONE
END:VCALENDAR