BEGIN:VCALENDAR
VERSION:2.0
PRODID:-//wp-events-plugin.com//7.2.3.1//EN
TZID:Australia/Perth
X-WR-TIMEZONE:Australia/Perth
BEGIN:VEVENT
UID:2@shpsh.wa.edu.au
DTSTART;TZID=Australia/Perth:20240828T190000
DTEND;TZID=Australia/Perth:20240828T200000
DTSTAMP:20240820T023612Z
URL:https://shpsh.wa.edu.au/events/school-advisory-council-meeting/
SUMMARY:School Advisory Council Meeting
DESCRIPTION:
END:VEVENT
BEGIN:VTIMEZONE
TZID:Australia/Perth
X-LIC-LOCATION:Australia/Perth
BEGIN:STANDARD
DTSTART:20230829T190000
TZOFFSETFROM:+0800
TZOFFSETTO:+0800
TZNAME:AWST
END:STANDARD
END:VTIMEZONE
END:VCALENDAR