BEGIN:VCALENDAR
VERSION:2.0
PRODID:-//wp-events-plugin.com//7.2.3.1//EN
TZID:Australia/Perth
X-WR-TIMEZONE:Australia/Perth
BEGIN:VEVENT
UID:23@shpsh.wa.edu.au
DTSTART;TZID=Australia/Perth:20251013T080000
DTEND;TZID=Australia/Perth:20251013T080000
DTSTAMP:20241210T132804Z
URL:https://shpsh.wa.edu.au/events/start-of-term-4/
SUMMARY:Start of Term 4
DESCRIPTION:
CATEGORIES:Term Dates
END:VEVENT
BEGIN:VTIMEZONE
TZID:Australia/Perth
X-LIC-LOCATION:Australia/Perth
BEGIN:STANDARD
DTSTART:20241013T080000
TZOFFSETFROM:+0800
TZOFFSETTO:+0800
TZNAME:AWST
END:STANDARD
END:VTIMEZONE
END:VCALENDAR