BEGIN:VCALENDAR
VERSION:2.0
PRODID:-//wp-events-plugin.com//7.2.3.1//EN
TZID:Australia/Perth
X-WR-TIMEZONE:Australia/Perth
BEGIN:VEVENT
UID:6@shpsh.wa.edu.au
DTSTART;TZID=Australia/Perth:20240909T000000
DTEND;TZID=Australia/Perth:20240910T000000
DTSTAMP:20240821T055016Z
URL:https://shpsh.wa.edu.au/events/year-5-camp/
SUMMARY:Year 5 Camp
DESCRIPTION:
END:VEVENT
BEGIN:VTIMEZONE
TZID:Australia/Perth
X-LIC-LOCATION:Australia/Perth
BEGIN:STANDARD
DTSTART:20230910T000000
TZOFFSETFROM:+0800
TZOFFSETTO:+0800
TZNAME:AWST
END:STANDARD
END:VTIMEZONE
END:VCALENDAR